BEGIN:VCALENDAR
VERSION:2.0
PRODID:-//Hill Country Alliance - ECPv6.15.11//NONSGML v1.0//EN
CALSCALE:GREGORIAN
METHOD:PUBLISH
X-ORIGINAL-URL:https://hillcountryalliance.org
X-WR-CALDESC:Events for Hill Country Alliance
REFRESH-INTERVAL;VALUE=DURATION:PT1H
X-Robots-Tag:noindex
X-PUBLISHED-TTL:PT1H
BEGIN:VTIMEZONE
TZID:America/Chicago
BEGIN:DAYLIGHT
TZOFFSETFROM:-0600
TZOFFSETTO:-0500
TZNAME:CDT
DTSTART:20200308T080000
END:DAYLIGHT
BEGIN:STANDARD
TZOFFSETFROM:-0500
TZOFFSETTO:-0600
TZNAME:CST
DTSTART:20201101T070000
END:STANDARD
BEGIN:DAYLIGHT
TZOFFSETFROM:-0600
TZOFFSETTO:-0500
TZNAME:CDT
DTSTART:20210314T080000
END:DAYLIGHT
BEGIN:STANDARD
TZOFFSETFROM:-0500
TZOFFSETTO:-0600
TZNAME:CST
DTSTART:20211107T070000
END:STANDARD
BEGIN:DAYLIGHT
TZOFFSETFROM:-0600
TZOFFSETTO:-0500
TZNAME:CDT
DTSTART:20220313T080000
END:DAYLIGHT
BEGIN:STANDARD
TZOFFSETFROM:-0500
TZOFFSETTO:-0600
TZNAME:CST
DTSTART:20221106T070000
END:STANDARD
END:VTIMEZONE
BEGIN:VEVENT
DTSTART;VALUE=DATE:20210403
DTEND;VALUE=DATE:20210413
DTSTAMP:20260419T210344
CREATED:20201214T150202Z
LAST-MODIFIED:20201214T150202Z
UID:23582-1617408000-1618271999@hillcountryalliance.org
SUMMARY:Online - Globe at Night Observations - April
DESCRIPTION:Six Easy Star Hunting Steps\n\nDuring the campaign dates\, go outside more than an hour after sunset (8-10 pm local time). The Moon should not be up. Let your eyes become used to the dark for 10 minutes before your first observation.\nUse a night sky app on your phone outside to find the constellation from where you are.\nGo to the Globe at Night Report page to start to enter Globe at Night measurements. Make sure you are in “Nighttime version”\nWith a smart phone\, the app will put in the date\, time\, location (latitude/longitude) automatically. Otherwise please type them in. For your location\, type the street address closest to your observation along with the city\, state or province and country.\nChoose the star chart that looks most closely to what you see toward your constellation. That is\, what is the faintest star you can see in the sky and find in the chart?\nChose the amount of cloud cover at the time of observation and then click on the “SUBMIT DATA” button.\n\n\nGlobe at Night 2020 Dates and Constellations\nNew for 2020: During many of the 2020 Globe at Night campaigns there will be more than one choice for which constellation is optimal to use. This will depend on your location around the globe. To decide which one is best for you at your location for the dates listed below\, check to see if the constellation is more than halfway above the horizon. If so\, you can use that constellation for the campaign. If not\, try another suggested constellation for that month \nLearn more here: https://www.globeatnight.org/6-steps.php
URL:https://hillcountryalliance.org/event/online-globe-at-night-observations-april/
LOCATION:Online
CATEGORIES:General Events
END:VEVENT
BEGIN:VEVENT
DTSTART;VALUE=DATE:20210409
DTEND;VALUE=DATE:20210412
DTSTAMP:20260419T210344
CREATED:20210401T123843Z
LAST-MODIFIED:20210401T123843Z
UID:24276-1617926400-1618185599@hillcountryalliance.org
SUMMARY:Burnet - 38th Annual Bluebonnet Festival
DESCRIPTION:A Festival with Something for Everyone!\nAlways taking place the second weekend in April\, the Bluebonnet Festival draws 30\,000 people annually to Burnet\, Texas. Each year\, activities are added to keep the festival exciting for first-time visitors as well as repeat festival fans. Once you have attended your first Bluebonnet Festival\, you’ll be hooked. \nJoin us April 9-11\, 2021 for the 38th Annual Bluebonnet Festival! \nLearn more here
URL:https://hillcountryalliance.org/event/burnet-38th-annual-bluebonnet-festival/
LOCATION:Downtown Burnet – Around the Courthouse\, 220 S Pierce St\, Burnet\, TX\, 78611\, United States
CATEGORIES:General Events
END:VEVENT
BEGIN:VEVENT
DTSTART;TZID=America/Chicago:20210411T140000
DTEND;TZID=America/Chicago:20210411T170000
DTSTAMP:20260419T210344
CREATED:20210405T103606Z
LAST-MODIFIED:20210405T103606Z
UID:24324-1618149600-1618160400@hillcountryalliance.org
SUMMARY:Blanco - Community Plant Swap with Blanco County Friends of the Night Sky
DESCRIPTION:Join the Blanco County Friends of the Night Sky for a plant swap! \nIn support of International Dark Sky Week\, Blanco County Friends of the Night Sky will have an exhibit table at the Blanco Community Plant Swap.  This is being held at Gem of the Hills Activity Center\, 2233 US Highway 281 N\, Blanco\, TX 78606 on Sunday\, April 11\, 2021\, from 2:00PM to 5:00PM. \nLearn more here
URL:https://hillcountryalliance.org/event/blanco-community-plant-swap-with-blanco-county-friends-of-the-night-sky/
LOCATION:Gem of the Hills\, 2233 US Highway 281 North\, Blanco\, Texas
CATEGORIES:General Events
END:VEVENT
END:VCALENDAR