BEGIN:VCALENDAR
VERSION:2.0
PRODID:-//Hill Country Alliance - ECPv6.15.11//NONSGML v1.0//EN
CALSCALE:GREGORIAN
METHOD:PUBLISH
X-WR-CALNAME:Hill Country Alliance
X-ORIGINAL-URL:https://hillcountryalliance.org
X-WR-CALDESC:Events for Hill Country Alliance
REFRESH-INTERVAL;VALUE=DURATION:PT1H
X-Robots-Tag:noindex
X-PUBLISHED-TTL:PT1H
BEGIN:VTIMEZONE
TZID:America/Chicago
BEGIN:DAYLIGHT
TZOFFSETFROM:-0600
TZOFFSETTO:-0500
TZNAME:CDT
DTSTART:20200308T080000
END:DAYLIGHT
BEGIN:STANDARD
TZOFFSETFROM:-0500
TZOFFSETTO:-0600
TZNAME:CST
DTSTART:20201101T070000
END:STANDARD
BEGIN:DAYLIGHT
TZOFFSETFROM:-0600
TZOFFSETTO:-0500
TZNAME:CDT
DTSTART:20210314T080000
END:DAYLIGHT
BEGIN:STANDARD
TZOFFSETFROM:-0500
TZOFFSETTO:-0600
TZNAME:CST
DTSTART:20211107T070000
END:STANDARD
BEGIN:DAYLIGHT
TZOFFSETFROM:-0600
TZOFFSETTO:-0500
TZNAME:CDT
DTSTART:20220313T080000
END:DAYLIGHT
BEGIN:STANDARD
TZOFFSETFROM:-0500
TZOFFSETTO:-0600
TZNAME:CST
DTSTART:20221106T070000
END:STANDARD
END:VTIMEZONE
BEGIN:VEVENT
DTSTART;VALUE=DATE:20210414
DTEND;VALUE=DATE:20210417
DTSTAMP:20260419T193518
CREATED:20210325T115011Z
LAST-MODIFIED:20210325T115011Z
UID:24226-1618358400-1618617599@hillcountryalliance.org
SUMMARY:Online - 25th Annual Texas Land Conservation Conference - Texas Land Trust Council
DESCRIPTION:The 2021 Texas Land Conservation Conference will be held as a virtual event and will offer a variety of program content and learning experiences related to land and water conservation in the Lone Star State. This year’s event will also feature regional\, outdoor\, in-person networking events on Thursday evening.\n\nWith nearly 300 attendees and growing\, the conference is the preeminent statewide meeting for anyone working in the field of land and water conservation\, private landowners interested in conserving their land\, government\, business and NGO agency partners\, and any person interested in learning more about these important issues in Texas. Learn more and register here.
URL:https://hillcountryalliance.org/event/online-25th-annual-texas-land-conservation-conference-texas-land-trust-council/
LOCATION:Online
CATEGORIES:General Events
END:VEVENT
END:VCALENDAR