BEGIN:VCALENDAR
VERSION:2.0
PRODID:-//Hill Country Alliance - ECPv6.15.11//NONSGML v1.0//EN
CALSCALE:GREGORIAN
METHOD:PUBLISH
X-ORIGINAL-URL:https://hillcountryalliance.org
X-WR-CALDESC:Events for Hill Country Alliance
REFRESH-INTERVAL;VALUE=DURATION:PT1H
X-Robots-Tag:noindex
X-PUBLISHED-TTL:PT1H
BEGIN:VTIMEZONE
TZID:America/Chicago
BEGIN:DAYLIGHT
TZOFFSETFROM:-0600
TZOFFSETTO:-0500
TZNAME:CDT
DTSTART:20200308T080000
END:DAYLIGHT
BEGIN:STANDARD
TZOFFSETFROM:-0500
TZOFFSETTO:-0600
TZNAME:CST
DTSTART:20201101T070000
END:STANDARD
BEGIN:DAYLIGHT
TZOFFSETFROM:-0600
TZOFFSETTO:-0500
TZNAME:CDT
DTSTART:20210314T080000
END:DAYLIGHT
BEGIN:STANDARD
TZOFFSETFROM:-0500
TZOFFSETTO:-0600
TZNAME:CST
DTSTART:20211107T070000
END:STANDARD
BEGIN:DAYLIGHT
TZOFFSETFROM:-0600
TZOFFSETTO:-0500
TZNAME:CDT
DTSTART:20220313T080000
END:DAYLIGHT
BEGIN:STANDARD
TZOFFSETFROM:-0500
TZOFFSETTO:-0600
TZNAME:CST
DTSTART:20221106T070000
END:STANDARD
END:VTIMEZONE
BEGIN:VEVENT
DTSTART;TZID=America/Chicago:20210424T100000
DTEND;TZID=America/Chicago:20210424T160000
DTSTAMP:20260414T122335
CREATED:20210322T222628Z
LAST-MODIFIED:20210322T222628Z
UID:24185-1619258400-1619280000@hillcountryalliance.org
SUMMARY:Lake Travis - Spring Clean Downstream with Colorado River Alliance and Travis County Parks
DESCRIPTION:Colorado River Alliance and Travis County Parks are bringing a whole new meaning to spring cleaning! Our beautiful parks and Texas Colorado River need a little spring-cleaning“and we need YOUR help! Join us on April 24th – the Saturday after Earth Day – to get your hands dirty while helping to keep our Mother Earth clean. \nThe Texas Colorado River supplies drinking water for 1.5 million people in Central Texas as well as providing us with opportunities to boat\, fish\, SUP\, kayak\, and enjoy water safely. Since the COVID-19 pandemic began\, it is more important than ever to cherish our natural resources and care for our outdoor spaces. \nThose familiar with the Lake Travis Cleanup know the immense impact this annual event has on our parks and river. For 26 years\, about 1\,000 volunteers joined us each year to remove more than 5 tons of trash and debris from Lake Travis! After a successful Fall event\, Colorado River Alliance and Travis County Parks are offering a socially-distanced spring cleanup event. \nThe Spring Clean Downstream includes hundreds of volunteer opportunities in more than 10 park locations! In addition to removing litter from shoreline parks\, you will help us celebrate Earth Day by removing invasive species\, planting natives\, and repairing and beautifying park structures. A full list of projects\, shift times\, and volunteer numbers can be found on the registration site beginning Monday\, March 22\, 2021. \nLearn more and volunteer here.
URL:https://hillcountryalliance.org/event/lake-travis-spring-clean-downstream-with-colorado-river-alliance-and-travis-county-parks/
LOCATION:Numerous sites along Lake Travis
CATEGORIES:General Events
END:VEVENT
BEGIN:VEVENT
DTSTART;TZID=America/Chicago:20210424T100000
DTEND;TZID=America/Chicago:20210424T160000
DTSTAMP:20260414T122335
CREATED:20210401T124819Z
LAST-MODIFIED:20210401T124819Z
UID:24284-1619258400-1619280000@hillcountryalliance.org
SUMMARY:Johnson City - Butterfly Bonanza (+ Bats & Bees) at the Science Mill
DESCRIPTION:Three cheers for pollinators: Butterflies! Bats! Bees! Butterfly Bonanza (+ Bats & Bees) returns to the Science Mill on Saturday\, April 24. Through up-close encounters and hands-on activities\, learn why these friendly flyers are crucial to our local ecosystem. \n\n\nFirst 200 visitors receive a butterfly to release in our outdoor Butterfly Garden! \n\n\nExamine real bat specimens with Michelle Camara from Southern Wildlife Rehab and hear how she helped 6\,000 injured bats after Winter Storm Uri. Presentations at 11am and 1pm. \n\n\nVisit a demonstration hive and explore beekeeping tools with Mike Mendez\, Master Beekeeper. \n\n\nTry out a “bat’s eye view” of what it’s like to navigate with echolocation \n\n\nMake wildflower seed bombs you can plant at home \n\n\nGet gardening tips to make your yard a pollinator pit stop \n\n\nMarvel at the monarch’s epic migration in the big-screen film Flight of the Butterflies \n\n\nSpecial activities run from 10am-2pm; explore the Science Mill’s 50+ hands-on exhibits inside and outdoors from 10am-4pm. Reserve your tickets online to help us ensure space for all and provide contact-free entry. \nLearn more and get tickets here
URL:https://hillcountryalliance.org/event/johnson-city-butterfly-bonanza-bats-bees-at-the-science-mill/
LOCATION:The Science Mill\, 101 South Lady Bird Lane\, Johnson City\, TX\, 78636\, United States
CATEGORIES:General Events
END:VEVENT
END:VCALENDAR