BEGIN:VCALENDAR
VERSION:2.0
PRODID:-//Hill Country Alliance - ECPv6.15.11//NONSGML v1.0//EN
CALSCALE:GREGORIAN
METHOD:PUBLISH
X-ORIGINAL-URL:https://hillcountryalliance.org
X-WR-CALDESC:Events for Hill Country Alliance
REFRESH-INTERVAL;VALUE=DURATION:PT1H
X-Robots-Tag:noindex
X-PUBLISHED-TTL:PT1H
BEGIN:VTIMEZONE
TZID:America/Chicago
BEGIN:DAYLIGHT
TZOFFSETFROM:-0600
TZOFFSETTO:-0500
TZNAME:CDT
DTSTART:20200308T080000
END:DAYLIGHT
BEGIN:STANDARD
TZOFFSETFROM:-0500
TZOFFSETTO:-0600
TZNAME:CST
DTSTART:20201101T070000
END:STANDARD
BEGIN:DAYLIGHT
TZOFFSETFROM:-0600
TZOFFSETTO:-0500
TZNAME:CDT
DTSTART:20210314T080000
END:DAYLIGHT
BEGIN:STANDARD
TZOFFSETFROM:-0500
TZOFFSETTO:-0600
TZNAME:CST
DTSTART:20211107T070000
END:STANDARD
BEGIN:DAYLIGHT
TZOFFSETFROM:-0600
TZOFFSETTO:-0500
TZNAME:CDT
DTSTART:20220313T080000
END:DAYLIGHT
BEGIN:STANDARD
TZOFFSETFROM:-0500
TZOFFSETTO:-0600
TZNAME:CST
DTSTART:20221106T070000
END:STANDARD
END:VTIMEZONE
BEGIN:VEVENT
DTSTART;VALUE=DATE:20210601
DTEND;VALUE=DATE:20210611
DTSTAMP:20260419T193511
CREATED:20210602T184421Z
LAST-MODIFIED:20210602T184421Z
UID:25107-1622505600-1623369599@hillcountryalliance.org
SUMMARY:Online - Globe at Night Observations - June
DESCRIPTION:Six Easy Star Hunting Steps\n\nDuring the campaign dates\, go outside more than an hour after sunset (8-10 pm local time). The Moon should not be up. Let your eyes become used to the dark for 10 minutes before your first observation.\nUse a night sky app on your phone outside to find the constellation from where you are.\nGo to the Globe at Night Report page to start to enter Globe at Night measurements. Make sure you are in “Nighttime version”\nWith a smart phone\, the app will put in the date\, time\, location (latitude/longitude) automatically. Otherwise please type them in. For your location\, type the street address closest to your observation along with the city\, state or province and country.\nChoose the star chart that looks most closely to what you see toward your constellation. That is\, what is the faintest star you can see in the sky and find in the chart?\nChose the amount of cloud cover at the time of observation and then click on the “SUBMIT DATA” button.\n\n\nGlobe at Night 2020 Dates and Constellations\nNew for 2020: During many of the 2020 Globe at Night campaigns there will be more than one choice for which constellation is optimal to use. This will depend on your location around the globe. To decide which one is best for you at your location for the dates listed below\, check to see if the constellation is more than halfway above the horizon. If so\, you can use that constellation for the campaign. If not\, try another suggested constellation for that month \nLearn more here: https://www.globeatnight.org/6-steps.php
URL:https://hillcountryalliance.org/event/online-globe-at-night-observations-june/
LOCATION:Online
CATEGORIES:General Events
END:VEVENT
BEGIN:VEVENT
DTSTART;TZID=America/Chicago:20210605T080000
DTEND;TZID=America/Chicago:20210605T130000
DTSTAMP:20260419T193511
CREATED:20210603T170155Z
LAST-MODIFIED:20210603T170155Z
UID:25113-1622880000-1622898000@hillcountryalliance.org
SUMMARY:Austin - National Trails Day Fun Run and Walk on the Violet Crown Trail
DESCRIPTION:JOIN HILL COUNTRY CONSERVANCY AND REI FOR NATIONAL TRAILS DAY ON THE VIOLET CROWN TRAIL!\nNational Trails Day is a nationwide event held to encourage people to discover their local trails and celebrate spending time outdoors. For the third annual NTD on the VCT Fun Run\, wind through the woods on your choice of a 5k running course or 1 mi walking course. \nParticipants will receive an NTD on the VCT shirt\, a yoga for runners class from Core Power Yoga\, and all sorts of goodies provided by REI. \nAll proceeds will go towards keeping the trail that you love safe and clean for everyone in the community to enjoy. \nClick here to learn more and register.
URL:https://hillcountryalliance.org/event/austin-national-trails-day-run-on-the-violet-crown-trail/
LOCATION:Dick Nichols Park\, 8011 Beckett\, Austin\, TX\, 78749\, United States
CATEGORIES:General Events
END:VEVENT
END:VCALENDAR