BEGIN:VCALENDAR
VERSION:2.0
PRODID:-//Hill Country Alliance - ECPv6.15.11//NONSGML v1.0//EN
CALSCALE:GREGORIAN
METHOD:PUBLISH
X-WR-CALNAME:Hill Country Alliance
X-ORIGINAL-URL:https://hillcountryalliance.org
X-WR-CALDESC:Events for Hill Country Alliance
REFRESH-INTERVAL;VALUE=DURATION:PT1H
X-Robots-Tag:noindex
X-PUBLISHED-TTL:PT1H
BEGIN:VTIMEZONE
TZID:America/Chicago
BEGIN:DAYLIGHT
TZOFFSETFROM:-0600
TZOFFSETTO:-0500
TZNAME:CDT
DTSTART:20200308T080000
END:DAYLIGHT
BEGIN:STANDARD
TZOFFSETFROM:-0500
TZOFFSETTO:-0600
TZNAME:CST
DTSTART:20201101T070000
END:STANDARD
BEGIN:DAYLIGHT
TZOFFSETFROM:-0600
TZOFFSETTO:-0500
TZNAME:CDT
DTSTART:20210314T080000
END:DAYLIGHT
BEGIN:STANDARD
TZOFFSETFROM:-0500
TZOFFSETTO:-0600
TZNAME:CST
DTSTART:20211107T070000
END:STANDARD
BEGIN:DAYLIGHT
TZOFFSETFROM:-0600
TZOFFSETTO:-0500
TZNAME:CDT
DTSTART:20220313T080000
END:DAYLIGHT
BEGIN:STANDARD
TZOFFSETFROM:-0500
TZOFFSETTO:-0600
TZNAME:CST
DTSTART:20221106T070000
END:STANDARD
END:VTIMEZONE
BEGIN:VEVENT
DTSTART;TZID=America/Chicago:20210619T140000
DTEND;TZID=America/Chicago:20210619T160000
DTSTAMP:20260419T163610
CREATED:20210602T173228Z
LAST-MODIFIED:20210602T173228Z
UID:25076-1624111200-1624118400@hillcountryalliance.org
SUMMARY:Boerne - Gardening 101: Peppers - Herff Farm
DESCRIPTION:Join Keith Amelung of Have Spade Will Travel this Saturday and every 3rd Saturday after the Farmer’s Market at Herff Farm for an introduction to the “basics” of veggie gardening in the Texas Hill Country. We will cover the “how to get started” in a quick 1-hour presentation followed by a Q&A and a seasonal hands-on project. \nThink outside the “Bell” – There is a great big world of exciting new culinary exploration if you will take the journey with us. Peppers thrive in our summer heat – well\, the hot ones anyway. But there are some not-so-hot varieties that can produce during the summer too… You don’t have to wait ’til September for Bells and Anchos to kick in. Interactive: Each attendee will pot up a couple pepper plants to take home — your choice\, hot or not — and together we will set out a few transplants in the Herff Farm garden beds. \nLearn more and register here. 
URL:https://hillcountryalliance.org/event/boerne-gardening-101-peppers-herff-farm/
LOCATION:Herff Farm\, 33 Herff Road\, Boerne\, TX\, 78006\, United States
CATEGORIES:General Events
END:VEVENT
END:VCALENDAR