BEGIN:VCALENDAR
VERSION:2.0
PRODID:-//Hill Country Alliance - ECPv6.15.11//NONSGML v1.0//EN
CALSCALE:GREGORIAN
METHOD:PUBLISH
X-ORIGINAL-URL:https://hillcountryalliance.org
X-WR-CALDESC:Events for Hill Country Alliance
REFRESH-INTERVAL;VALUE=DURATION:PT1H
X-Robots-Tag:noindex
X-PUBLISHED-TTL:PT1H
BEGIN:VTIMEZONE
TZID:America/Chicago
BEGIN:DAYLIGHT
TZOFFSETFROM:-0600
TZOFFSETTO:-0500
TZNAME:CDT
DTSTART:20200308T080000
END:DAYLIGHT
BEGIN:STANDARD
TZOFFSETFROM:-0500
TZOFFSETTO:-0600
TZNAME:CST
DTSTART:20201101T070000
END:STANDARD
BEGIN:DAYLIGHT
TZOFFSETFROM:-0600
TZOFFSETTO:-0500
TZNAME:CDT
DTSTART:20210314T080000
END:DAYLIGHT
BEGIN:STANDARD
TZOFFSETFROM:-0500
TZOFFSETTO:-0600
TZNAME:CST
DTSTART:20211107T070000
END:STANDARD
BEGIN:DAYLIGHT
TZOFFSETFROM:-0600
TZOFFSETTO:-0500
TZNAME:CDT
DTSTART:20220313T080000
END:DAYLIGHT
BEGIN:STANDARD
TZOFFSETFROM:-0500
TZOFFSETTO:-0600
TZNAME:CST
DTSTART:20221106T070000
END:STANDARD
END:VTIMEZONE
BEGIN:VEVENT
DTSTART;TZID=America/Chicago:20210625T200000
DTEND;TZID=America/Chicago:20210625T213000
DTSTAMP:20260414T160547
CREATED:20210602T173447Z
LAST-MODIFIED:20210602T173447Z
UID:25078-1624651200-1624656600@hillcountryalliance.org
SUMMARY:Boerne - Family Night Hike – Bats and Fireflies at Cibolo Nature Center
DESCRIPTION:Explore the nature center trails from dusk to dark to see fireflies\, bats\, moths\, owls\, and other nocturnal animals with our fantastic education staff and volunteers. We will have an opportunity to record bats using bat detectors to identify our native bat species\, look at animal tracks and signs\, and look deeper into seasonally occurring wildlife. This event is family-friendly\, but participants must be able to keep a moderate hiking pace. Meet at the nature center Visitor Center. \nPlease bring a flashlight and your water bottle. Face masks are recommended when in the proximity of one another\, but there will be plenty of space to keep a proper distance on the hike. When a face mask covering is required\, it must cover the nose and mouth. \nLearn more and register here. 
URL:https://hillcountryalliance.org/event/boerne-family-night-hike-bats-and-fireflies-at-cibolo-nature-center/
LOCATION:Cibolo Nature Center\, 140 City Park Road\, Boerne\, TX\, 78006\, United States
CATEGORIES:General Events
END:VEVENT
END:VCALENDAR