BEGIN:VCALENDAR
VERSION:2.0
PRODID:-//Hill Country Alliance - ECPv6.15.11//NONSGML v1.0//EN
CALSCALE:GREGORIAN
METHOD:PUBLISH
X-ORIGINAL-URL:https://hillcountryalliance.org
X-WR-CALDESC:Events for Hill Country Alliance
REFRESH-INTERVAL;VALUE=DURATION:PT1H
X-Robots-Tag:noindex
X-PUBLISHED-TTL:PT1H
BEGIN:VTIMEZONE
TZID:America/Chicago
BEGIN:DAYLIGHT
TZOFFSETFROM:-0600
TZOFFSETTO:-0500
TZNAME:CDT
DTSTART:20200308T080000
END:DAYLIGHT
BEGIN:STANDARD
TZOFFSETFROM:-0500
TZOFFSETTO:-0600
TZNAME:CST
DTSTART:20201101T070000
END:STANDARD
BEGIN:DAYLIGHT
TZOFFSETFROM:-0600
TZOFFSETTO:-0500
TZNAME:CDT
DTSTART:20210314T080000
END:DAYLIGHT
BEGIN:STANDARD
TZOFFSETFROM:-0500
TZOFFSETTO:-0600
TZNAME:CST
DTSTART:20211107T070000
END:STANDARD
BEGIN:DAYLIGHT
TZOFFSETFROM:-0600
TZOFFSETTO:-0500
TZNAME:CDT
DTSTART:20220313T080000
END:DAYLIGHT
BEGIN:STANDARD
TZOFFSETFROM:-0500
TZOFFSETTO:-0600
TZNAME:CST
DTSTART:20221106T070000
END:STANDARD
END:VTIMEZONE
BEGIN:VEVENT
DTSTART;VALUE=DATE:20210630
DTEND;VALUE=DATE:20210701
DTSTAMP:20260419T133420
CREATED:20210602T164914Z
LAST-MODIFIED:20210602T164914Z
UID:25050-1625011200-1625097599@hillcountryalliance.org
SUMMARY:Online - Last day to vote for HCA when you shop at Target!
DESCRIPTION:Support HCA when you shop at Target! Target Circle Members can earn and cast votes for the Hill Country Alliance when they shop at Target – both online and in-store – now through June 30th. Simply login to your Target account at target.com or on the mobile app and follow the prompts and instructions to vote. Every nonprofit featured with Target Circle will be awarded a grant based on the percentage of votes they receive. \nThe more votes HCA receives\, the bigger the donation HCA can earn! \nHow-To: Learn more and vote for HCA!\nEnroll in Target Circle and Start Earning Votes\nHCA supporters in the Austin-area can enroll in the Giving Program and support HCA for free by 1) signing up at target.com/circle; 2) downloading the Target app; 3) providing phone number at checkout. Guests earn one vote every time they make an eligible purchase at Target\, online and in-store. Members earn votes as they shop at Target. To earn votes in-store\, scan your Wallet barcode in the Target App at the time of purchase\, or scan the barcode on your receipt with the Target App within seven (7) days of purchase. To earn votes online\, on a Target.com or Target App purchase\, you must create and be signed into your Target Circle account when placing an order. \nVote for HCA\nCasting votes is a completely digital experience. Any Target Circle Member can login their Target account at target.com or on the mobile app and follow the prompts and instructions to vote. Eligible nonprofits in your area will display in a list with each organization’s name\, logo\, description\, and website link – you should be able to spot the Hill Country Alliance logo there. \nFor a step-by-step guide on how to vote using the app\, check out this handy guide Texas Land Conservancy put together and throw them a few votes too! \nEligible ZIP Codes\nAustin: 78702\, 78704\, 78705\, 78717\, 78723\, 78726\, 78748\, 78749\, 78758\, 78759  |  Bee Cave: 78738  |  Cedar Park: 78613  |  Georgetown: 78628  |  Kyle: 78640  |  Pflugerville: 78660  |  Round Rock: 78664  |  San Marcos: 78666
URL:https://hillcountryalliance.org/event/online-last-day-to-vote-for-hca-when-you-shop-at-target/
LOCATION:Online
CATEGORIES:General Events
ORGANIZER;CN="Hill Country Alliance":MAILTO:info@hillcountryalliance.org
END:VEVENT
BEGIN:VEVENT
DTSTART;TZID=America/Chicago:20210630T120000
DTEND;TZID=America/Chicago:20210630T130000
DTSTAMP:20260419T133420
CREATED:20210628T140112Z
LAST-MODIFIED:20210628T140112Z
UID:25395-1625054400-1625058000@hillcountryalliance.org
SUMMARY:Online - Using Alternative Wastewater Treatments to Cut Pollution and Save Water
DESCRIPTION:Using Alternative Treatment to Cut Pollution and Save Water – U.S. Green Building Council\nDid you know that the U.S. Green Building Council gives points for sustainable wastewater management in its LEED certification program? Learn more at this webinar on June 30th sponsored by the Texas chapter of USGBC. The webinar is free for USGBC members and $15 for non-members. Register here: https://www.usgbctexas.org/event-4331069 \n\nThis panel presentation will explain:\n\nHow treated sewage causes pollution in streams & lakes\nHow wastewater treatment systems are regulated\nHow alternative wastewater systems are designed & installed\n\nPanelists:\n\nChris Herrington. P.E.\, Environmental Officer\, City of Austin\nBrian Zabcik\, Wastewater Campaign Organizer\, Save Barton Creek Association\nDavid Price\, P.E.\, President\, Texas River Protection Association\n\n 
URL:https://hillcountryalliance.org/event/online-using-alternative-wastewater-treatments-to-cut-pollution-and-save-water/
LOCATION:Virtual
CATEGORIES:General Events
END:VEVENT
END:VCALENDAR