BEGIN:VCALENDAR
VERSION:2.0
PRODID:-//Hill Country Alliance - ECPv6.15.11//NONSGML v1.0//EN
CALSCALE:GREGORIAN
METHOD:PUBLISH
X-WR-CALNAME:Hill Country Alliance
X-ORIGINAL-URL:https://hillcountryalliance.org
X-WR-CALDESC:Events for Hill Country Alliance
REFRESH-INTERVAL;VALUE=DURATION:PT1H
X-Robots-Tag:noindex
X-PUBLISHED-TTL:PT1H
BEGIN:VTIMEZONE
TZID:America/Chicago
BEGIN:DAYLIGHT
TZOFFSETFROM:-0600
TZOFFSETTO:-0500
TZNAME:CDT
DTSTART:20200308T080000
END:DAYLIGHT
BEGIN:STANDARD
TZOFFSETFROM:-0500
TZOFFSETTO:-0600
TZNAME:CST
DTSTART:20201101T070000
END:STANDARD
BEGIN:DAYLIGHT
TZOFFSETFROM:-0600
TZOFFSETTO:-0500
TZNAME:CDT
DTSTART:20210314T080000
END:DAYLIGHT
BEGIN:STANDARD
TZOFFSETFROM:-0500
TZOFFSETTO:-0600
TZNAME:CST
DTSTART:20211107T070000
END:STANDARD
BEGIN:DAYLIGHT
TZOFFSETFROM:-0600
TZOFFSETTO:-0500
TZNAME:CDT
DTSTART:20220313T080000
END:DAYLIGHT
BEGIN:STANDARD
TZOFFSETFROM:-0500
TZOFFSETTO:-0600
TZNAME:CST
DTSTART:20221106T070000
END:STANDARD
END:VTIMEZONE
BEGIN:VEVENT
DTSTART;TZID=America/Chicago:20210701T180000
DTEND;TZID=America/Chicago:20210701T183000
DTSTAMP:20260414T160051
CREATED:20210517T104124Z
LAST-MODIFIED:20210517T104124Z
UID:24761-1625162400-1625164200@hillcountryalliance.org
SUMMARY:Online - Climate and Weather Trends in the Hill Country
DESCRIPTION:Hays Trinity Groundwater Conservation District – Water-Wise Speaker Series\nFor more information contact Charlie Flatten\, General Manager at gm@haysgroundwater.com or 512-858-9253  \nThe Hays Trinity Groundwater Conservation District has announced its 2021 Water-Wise Speaker Series. Subject matter experts will discuss a variety of water topics important to Hays County residents. Tune in July 1st at 6:00 PM to hear about climate and weather trends in the Hill Country from John Nielson-Gammon\, State Climatologist of Texas. \nHays County is listed by the US Census Bureau as the second fastest growing county in the United States. Great schools\, good housing\, proximity to growing business opportunities\, and a beautiful landscape are all drivers for our growth. Its most precious resource is water. The Trinity Aquifer deep below has a limited recharge capacity and will not support the growth coming in the next 20-years. The County needs to maximize efficiency of use and diversify its water supply portfolio to keep local communities healthy and viable long into the future. \nSpeakers will present at 6:00 live and online. Dial-in information will be on the District website www.HaysGroundwater.com the week before each presentation. Check the schedule for upcoming dates. \nWater Wise Speaker Series flyer for Hays Trinity Groundwater Conservation District 2021
URL:https://hillcountryalliance.org/event/online-climate-and-weather-trends-in-the-hill-country/
LOCATION:Online
CATEGORIES:General Events
END:VEVENT
END:VCALENDAR