BEGIN:VCALENDAR
VERSION:2.0
PRODID:-//Hill Country Alliance - ECPv6.15.11//NONSGML v1.0//EN
CALSCALE:GREGORIAN
METHOD:PUBLISH
X-WR-CALNAME:Hill Country Alliance
X-ORIGINAL-URL:https://hillcountryalliance.org
X-WR-CALDESC:Events for Hill Country Alliance
REFRESH-INTERVAL;VALUE=DURATION:PT1H
X-Robots-Tag:noindex
X-PUBLISHED-TTL:PT1H
BEGIN:VTIMEZONE
TZID:America/Chicago
BEGIN:DAYLIGHT
TZOFFSETFROM:-0600
TZOFFSETTO:-0500
TZNAME:CDT
DTSTART:20200308T080000
END:DAYLIGHT
BEGIN:STANDARD
TZOFFSETFROM:-0500
TZOFFSETTO:-0600
TZNAME:CST
DTSTART:20201101T070000
END:STANDARD
BEGIN:DAYLIGHT
TZOFFSETFROM:-0600
TZOFFSETTO:-0500
TZNAME:CDT
DTSTART:20210314T080000
END:DAYLIGHT
BEGIN:STANDARD
TZOFFSETFROM:-0500
TZOFFSETTO:-0600
TZNAME:CST
DTSTART:20211107T070000
END:STANDARD
BEGIN:DAYLIGHT
TZOFFSETFROM:-0600
TZOFFSETTO:-0500
TZNAME:CDT
DTSTART:20220313T080000
END:DAYLIGHT
BEGIN:STANDARD
TZOFFSETFROM:-0500
TZOFFSETTO:-0600
TZNAME:CST
DTSTART:20221106T070000
END:STANDARD
END:VTIMEZONE
BEGIN:VEVENT
DTSTART;TZID=America/Chicago:20210730T120000
DTEND;TZID=America/Chicago:20210730T150000
DTSTAMP:20260419T133425
CREATED:20210715T091017Z
LAST-MODIFIED:20210715T091017Z
UID:25495-1627646400-1627657200@hillcountryalliance.org
SUMMARY:Online - Wild Neighbors Speaker Series: Tawny Crazy Ants- Biology and Prospects for Control
DESCRIPTION:Tawny crazy ants are an environmentally damaging invasive species introduced from South America. These ants are currently spreading throughout the Gulf Coast region of the United States including Travis County. In this talk\, Dr. Ed LeBrun\, Research Scientist with the Department of Integrative Biology Brackenridge Field Laboratory at the University of Texas at Austin\, will describe some of the basic biology and ecology of this invader\, its impacts upon the natural systems it invades\, its interaction with the current regionally dominant invasive ant\, imported fire ants\, and ongoing work towards sustainable control of this ant’s populations in natural environments. \n  \nSign up for the Webinar here.
URL:https://hillcountryalliance.org/event/online-wild-neighbors-speaker-series-tawny-crazy-ants-biology-and-prospects-for-control/
LOCATION:Online
CATEGORIES:General Events
END:VEVENT
END:VCALENDAR