BEGIN:VCALENDAR
VERSION:2.0
PRODID:-//Hill Country Alliance - ECPv6.15.11//NONSGML v1.0//EN
CALSCALE:GREGORIAN
METHOD:PUBLISH
X-ORIGINAL-URL:https://hillcountryalliance.org
X-WR-CALDESC:Events for Hill Country Alliance
REFRESH-INTERVAL;VALUE=DURATION:PT1H
X-Robots-Tag:noindex
X-PUBLISHED-TTL:PT1H
BEGIN:VTIMEZONE
TZID:America/Chicago
BEGIN:DAYLIGHT
TZOFFSETFROM:-0600
TZOFFSETTO:-0500
TZNAME:CDT
DTSTART:20200308T080000
END:DAYLIGHT
BEGIN:STANDARD
TZOFFSETFROM:-0500
TZOFFSETTO:-0600
TZNAME:CST
DTSTART:20201101T070000
END:STANDARD
BEGIN:DAYLIGHT
TZOFFSETFROM:-0600
TZOFFSETTO:-0500
TZNAME:CDT
DTSTART:20210314T080000
END:DAYLIGHT
BEGIN:STANDARD
TZOFFSETFROM:-0500
TZOFFSETTO:-0600
TZNAME:CST
DTSTART:20211107T070000
END:STANDARD
BEGIN:DAYLIGHT
TZOFFSETFROM:-0600
TZOFFSETTO:-0500
TZNAME:CDT
DTSTART:20220313T080000
END:DAYLIGHT
BEGIN:STANDARD
TZOFFSETFROM:-0500
TZOFFSETTO:-0600
TZNAME:CST
DTSTART:20221106T070000
END:STANDARD
END:VTIMEZONE
BEGIN:VEVENT
DTSTART;TZID=America/Chicago:20210909T120000
DTEND;TZID=America/Chicago:20210909T130000
DTSTAMP:20260420T011054
CREATED:20210821T143259Z
LAST-MODIFIED:20210821T143259Z
UID:26061-1631188800-1631192400@hillcountryalliance.org
SUMMARY:Online - Quarterly TxN Conservation Partner Network Meeting
DESCRIPTION:We’re proud to partner with you and over 100 conservation organizations across Texas. To build on our collaborative efforts\, Texan by Nature will be hosting quarterly meetings exclusive to our Conservation Partner Network.\n\nTexan by Nature will be hosting our third quarterly meeting\, focused on fundraising and development\, on September 9 from 12-1 PM CST. \n\nThe goal of these meetings is to uplift conservation efforts across Texas\, share best practices and lessons learned\, and develop deeper partnerships. Future meetings will focus on topics such as fundraising\, diversity in conservation\, and more.\n\nIf you cannot attend\, no worries! We will record the meeting to share later. Watch the first meeting and the second meeting.\n\nTo register click here.
URL:https://hillcountryalliance.org/event/online-quarterly-txn-conservation-partner-network-meeting/
LOCATION:Online
END:VEVENT
END:VCALENDAR