BEGIN:VCALENDAR
VERSION:2.0
PRODID:-//Hill Country Alliance - ECPv6.15.11//NONSGML v1.0//EN
CALSCALE:GREGORIAN
METHOD:PUBLISH
X-ORIGINAL-URL:https://hillcountryalliance.org
X-WR-CALDESC:Events for Hill Country Alliance
REFRESH-INTERVAL;VALUE=DURATION:PT1H
X-Robots-Tag:noindex
X-PUBLISHED-TTL:PT1H
BEGIN:VTIMEZONE
TZID:America/Chicago
BEGIN:DAYLIGHT
TZOFFSETFROM:-0600
TZOFFSETTO:-0500
TZNAME:CDT
DTSTART:20200308T080000
END:DAYLIGHT
BEGIN:STANDARD
TZOFFSETFROM:-0500
TZOFFSETTO:-0600
TZNAME:CST
DTSTART:20201101T070000
END:STANDARD
BEGIN:DAYLIGHT
TZOFFSETFROM:-0600
TZOFFSETTO:-0500
TZNAME:CDT
DTSTART:20210314T080000
END:DAYLIGHT
BEGIN:STANDARD
TZOFFSETFROM:-0500
TZOFFSETTO:-0600
TZNAME:CST
DTSTART:20211107T070000
END:STANDARD
BEGIN:DAYLIGHT
TZOFFSETFROM:-0600
TZOFFSETTO:-0500
TZNAME:CDT
DTSTART:20220313T080000
END:DAYLIGHT
BEGIN:STANDARD
TZOFFSETFROM:-0500
TZOFFSETTO:-0600
TZNAME:CST
DTSTART:20221106T070000
END:STANDARD
END:VTIMEZONE
BEGIN:VEVENT
DTSTART;TZID=America/Chicago:20210917T170000
DTEND;TZID=America/Chicago:20210918T190000
DTSTAMP:20260425T202122
CREATED:20210821T173059Z
LAST-MODIFIED:20210821T173059Z
UID:26086-1631898000-1631991600@hillcountryalliance.org
SUMMARY:Mason - Texas Youth Hunting Program Huntmaster Training
DESCRIPTION:TYHP Huntmaster Training 2021-2 (Mason\, TX)\nFriday\, September 17\, 2021 – Saturday\, September 18\, 2021\n\n\n\n\n\n\nThis is a Huntmaster Training course for those wishing to learn how to effectively plan\, promote\, and lead safe and educational hunts in the Texas Youth Hunting Program.\n\n\nThe course will be held September 17-18\, 2021\, at the beautiful Mason Mountain Wildlife Management Area in central Texas.\nMeals and course materials are provided. There is indoor lodging\n\n.\n\nEvent Dates:   September 17-18\, 2021\nEvent Start and End Time:   Starts at 5:00pm on September 17\, ends by 7:00pm on September 18\n\n \n\nFor more information call 800.460.5494 or email cmitchell@texas-wildlife.org\n\n \n\nPlease sign up by August 16\, 2021.  \n\n \n\n\nFor more information check here.
URL:https://hillcountryalliance.org/event/mason-texas-youth-hunting-program-huntmaster-training/
LOCATION:ason Mountain Wildlife Management Area\, Mason\, TX\, 76856\, United States
END:VEVENT
BEGIN:VEVENT
DTSTART;TZID=America/Chicago:20210918T080000
DTEND;TZID=America/Chicago:20210918T170000
DTSTAMP:20260425T202122
CREATED:20210918T103346Z
LAST-MODIFIED:20210918T103346Z
UID:26713-1631952000-1631984400@hillcountryalliance.org
SUMMARY:Online - 8th Annual Environmental Film Festival
DESCRIPTION:The River Authority is partnering once again with the South Yuba River Citizens League Annual Wild & Scenic® Film Festival to feature national and international short films about topics such as nature\, adventure\, wildlife\, and conservation. The festival will also feature special introductions from our River Authority General Manager Derek Boese and will introduce viewers to the River Authority’s new outreach initiative “Don’t Let Litter Trash Your River.”\n\nRegistered participants will receive a link via email every week starting September 24 through October 8 with access to this year’s film selections.  Register at the link above to claim your tickets now!\n\n\n \n\nFor more information and to register\, click here!
URL:https://hillcountryalliance.org/event/online-8th-annual-environmental-film-festival/
LOCATION:Online
CATEGORIES:General Events
END:VEVENT
END:VCALENDAR