BEGIN:VCALENDAR
VERSION:2.0
PRODID:-//Hill Country Alliance - ECPv6.15.11//NONSGML v1.0//EN
CALSCALE:GREGORIAN
METHOD:PUBLISH
X-ORIGINAL-URL:https://hillcountryalliance.org
X-WR-CALDESC:Events for Hill Country Alliance
REFRESH-INTERVAL;VALUE=DURATION:PT1H
X-Robots-Tag:noindex
X-PUBLISHED-TTL:PT1H
BEGIN:VTIMEZONE
TZID:UTC
BEGIN:STANDARD
TZOFFSETFROM:+0000
TZOFFSETTO:+0000
TZNAME:UTC
DTSTART:20210101T000000
END:STANDARD
END:VTIMEZONE
BEGIN:VEVENT
DTSTART;TZID=UTC:20220416T090000
DTEND;TZID=UTC:20220416T130000
DTSTAMP:20260415T190502
CREATED:20220330T154305Z
LAST-MODIFIED:20220406T115710Z
UID:31526-1650099600-1650114000@hillcountryalliance.org
SUMMARY:Austin-Spring Native Plant Sale
DESCRIPTION:Lady Bird Johnson Wildflower Center is hosting their Spring Native Plant Sale! This sale features a variety of Texas natives\, including perennial and annual flowers\, grasses\, wetland plants\, shrubs and trees. Native plants conserve water; lower mowing costs; provide habitat for birds\, butterflies and other wildlife; protect and enrich soil; and reduce the use of fertilizer and pesticides. Plus\, they’re beautiful! \n\n\n 
URL:https://hillcountryalliance.org/event/spring-native-plant-sale/
LOCATION:Lady Bird Johnson Wildflower Center\, 4801 La Crosse Ave\, Austin\, TX\, 78739\, United States
CATEGORIES:General Events
END:VEVENT
END:VCALENDAR