BEGIN:VCALENDAR
VERSION:2.0
PRODID:-//Hill Country Alliance - ECPv6.15.11//NONSGML v1.0//EN
CALSCALE:GREGORIAN
METHOD:PUBLISH
X-ORIGINAL-URL:https://hillcountryalliance.org
X-WR-CALDESC:Events for Hill Country Alliance
REFRESH-INTERVAL;VALUE=DURATION:PT1H
X-Robots-Tag:noindex
X-PUBLISHED-TTL:PT1H
BEGIN:VTIMEZONE
TZID:UTC
BEGIN:STANDARD
TZOFFSETFROM:+0000
TZOFFSETTO:+0000
TZNAME:UTC
DTSTART:20210101T000000
END:STANDARD
END:VTIMEZONE
BEGIN:VEVENT
DTSTART;TZID=UTC:20220615T080000
DTEND;TZID=UTC:20220617T170000
DTSTAMP:20260423T053841
CREATED:20220325T143738Z
LAST-MODIFIED:20220615T223202Z
UID:31315-1655280000-1655485200@hillcountryalliance.org
SUMMARY:Round Rock - TWCA Summer Conference
DESCRIPTION:The TWCA Summer Conference is scheduled for June 15-17\, 2022 at the Kalahari Resort in Round Rock. Registration and sponsorship opportunities are available. Early bird rates expire on May 21. Cancellations before May 21 are subject to a $25 administrative fee. No cancellations will be allowed after May 21. \nPanel meetings will take place on Thursday morning and speaker sessions for Thursday and Friday will cover the latest water quality and federal affairs updates\, sunset overview of staff reports\, interim charges\, recruitment and retention challenges\, and more. \nWe will also hear from the following keynote speakers: Senate Ag\, Water & Rural Affairs Chairman Charles Perry\, IBWC Commissioner Maria-Elena Giner\, and TCEQ Commissioner\nBobby Janecka. \nClick here for more info.
URL:https://hillcountryalliance.org/event/twca-summer-conference/
LOCATION:TX
CATEGORIES:General Events
END:VEVENT
END:VCALENDAR