BEGIN:VCALENDAR
VERSION:2.0
PRODID:-//Hill Country Alliance - ECPv6.15.11//NONSGML v1.0//EN
CALSCALE:GREGORIAN
METHOD:PUBLISH
X-ORIGINAL-URL:https://hillcountryalliance.org
X-WR-CALDESC:Events for Hill Country Alliance
REFRESH-INTERVAL;VALUE=DURATION:PT1H
X-Robots-Tag:noindex
X-PUBLISHED-TTL:PT1H
BEGIN:VTIMEZONE
TZID:UTC
BEGIN:STANDARD
TZOFFSETFROM:+0000
TZOFFSETTO:+0000
TZNAME:UTC
DTSTART:20220101T000000
END:STANDARD
END:VTIMEZONE
BEGIN:VEVENT
DTSTART;TZID=UTC:20230711T190000
DTEND;TZID=UTC:20230711T203000
DTSTAMP:20260419T120242
CREATED:20230626T155232Z
LAST-MODIFIED:20230626T155232Z
UID:42340-1689102000-1689107400@hillcountryalliance.org
SUMMARY:New Braunfels - Preserving Open Space in Comal County: Challenges and Opportunities - CCCA Community Program
DESCRIPTION:Click to view flyer. \nAnnalisa Peace\, Executive Director of Greater Edwards Aquifer Alliance\, will relate what other local governments in the Edwards Aquifer region are doing to preserve land to protect our water resources and will outline some options and opportunities that Comal County and municipalities might adopt for this purpose. \nClick here to learn more and join the Comal County Conservation Alliance for this free community event. 
URL:https://hillcountryalliance.org/event/new-braunfels-preserving-open-space-in-comal-county-challenges-and-opportunities-ccca-community-program/
LOCATION:McKenna Event Center\, 801 W San Antonio St.\, New Braunfels\, TX\, 78130\, United States
CATEGORIES:General Events
ORGANIZER;CN="Comal County Conservation Alliance":MAILTO:info@comalconservation.org
END:VEVENT
END:VCALENDAR