BEGIN:VCALENDAR
VERSION:2.0
PRODID:-//Hill Country Alliance - ECPv6.15.11//NONSGML v1.0//EN
CALSCALE:GREGORIAN
METHOD:PUBLISH
X-WR-CALNAME:Hill Country Alliance
X-ORIGINAL-URL:https://hillcountryalliance.org
X-WR-CALDESC:Events for Hill Country Alliance
REFRESH-INTERVAL;VALUE=DURATION:PT1H
X-Robots-Tag:noindex
X-PUBLISHED-TTL:PT1H
BEGIN:VTIMEZONE
TZID:UTC
BEGIN:STANDARD
TZOFFSETFROM:+0000
TZOFFSETTO:+0000
TZNAME:UTC
DTSTART:20220101T000000
END:STANDARD
END:VTIMEZONE
BEGIN:VEVENT
DTSTART;VALUE=DATE:20230821
DTEND;VALUE=DATE:20230825
DTSTAMP:20260424T054314
CREATED:20230208T205553Z
LAST-MODIFIED:20230208T205553Z
UID:35769-1692576000-1692921599@hillcountryalliance.org
SUMMARY:Bandera - Texas Watershed Planning Short Course
DESCRIPTION:The Texas Watershed Planning Short Course provides needed training and promotes sustainable proactive approaches to managing water quality throughout the state. This multi-day course provides participants with guidance on stakeholder coordination\, education\, and outreach; meeting the U.S. Environmental Protection Agency’s (EPA) nine key elements of a watershed protection plan; data collection and analysis; and the tools available for plan development. This information is presented through lectures\, hands-on activities and case studies. \nIndividuals interested in or responsible for watershed protection and restoration\, including employees and volunteers with federal\, state\, county\, and local agencies; soil and water conservation districts; universities; consulting firms; non-governmental organizations; and watershed groups\, will benefit from this course. This course will be especially beneficial to those pursuing or receiving Clean Water Act Section 319(h) Grant funds. \nIf you are interested in this event and have questions\, please email Lucas Gregory at Lucas.Gregory@ag.tamu.edu. The course is supported through a federal Clean Water Act §319(h) Nonpoint Source Grant administered by the Texas State Soil and Water Conservation Board from the U.S. Environmental Protection Agency. \nLearn more: https://texaswpp.twri.tamu.edu/short-course/ \nContact Information: \nLucas Gregory\, Texas Water Resources Institute\, Lucas.Gregory@ag.tamu.edu
URL:https://hillcountryalliance.org/event/bandera-texas-watershed-planning-short-course-2/
LOCATION:Bandera\, Texas\, Bandera\, TX\, 78003\, United States
CATEGORIES:General Events
END:VEVENT
END:VCALENDAR