BEGIN:VCALENDAR
VERSION:2.0
PRODID:-//Hill Country Alliance - ECPv6.15.11//NONSGML v1.0//EN
CALSCALE:GREGORIAN
METHOD:PUBLISH
X-ORIGINAL-URL:https://hillcountryalliance.org
X-WR-CALDESC:Events for Hill Country Alliance
REFRESH-INTERVAL;VALUE=DURATION:PT1H
X-Robots-Tag:noindex
X-PUBLISHED-TTL:PT1H
BEGIN:VTIMEZONE
TZID:UTC
BEGIN:STANDARD
TZOFFSETFROM:+0000
TZOFFSETTO:+0000
TZNAME:UTC
DTSTART:20220101T000000
END:STANDARD
END:VTIMEZONE
BEGIN:VEVENT
DTSTART;TZID=UTC:20231101T180000
DTEND;TZID=UTC:20231101T193000
DTSTAMP:20260422T095613
CREATED:20230919T194644Z
LAST-MODIFIED:20231005T200030Z
UID:46124-1698861600-1698867000@hillcountryalliance.org
SUMMARY:Boerne - Kendall County Water Talk: Managing Our Groundwater
DESCRIPTION:From providing drinking water to sustaining our springs and rivers\, groundwater is the lifeblood of Kendall County. In the last year\, we’ve seen drought threaten the health of our aquifers. At the same time\, growth in the county means more people will rely on groundwater than ever before. \nPlease join us for a presentation from Natalie Ballew\, Groundwater Division Director at the Texas Water Development Board\, to learn more about Kendall County’s groundwater\, how it’s managed\, and how you can get involved. \nRSVP for this FREE event at http://bit.ly/kendallwater
URL:https://hillcountryalliance.org/event/boerne-kendall-county-water-talk-managing-our-groundwater/
LOCATION:Herff Farm\, 33 Herff Road\, Boerne\, TX\, 78006\, United States
CATEGORIES:General Events
ATTACH;FMTTYPE=image/jpeg:https://hillcountryalliance.org/wp-content/uploads/Kendall-County.jpg
ORGANIZER;CN="Hill Country Alliance":MAILTO:info@hillcountryalliance.org
END:VEVENT
END:VCALENDAR