BEGIN:VCALENDAR
VERSION:2.0
PRODID:-//Hill Country Alliance - ECPv6.15.11//NONSGML v1.0//EN
CALSCALE:GREGORIAN
METHOD:PUBLISH
X-ORIGINAL-URL:https://hillcountryalliance.org
X-WR-CALDESC:Events for Hill Country Alliance
REFRESH-INTERVAL;VALUE=DURATION:PT1H
X-Robots-Tag:noindex
X-PUBLISHED-TTL:PT1H
BEGIN:VTIMEZONE
TZID:UTC
BEGIN:STANDARD
TZOFFSETFROM:+0000
TZOFFSETTO:+0000
TZNAME:UTC
DTSTART:20250101T000000
END:STANDARD
END:VTIMEZONE
BEGIN:VEVENT
DTSTART;TZID=UTC:20260328T090000
DTEND;TZID=UTC:20260328T150000
DTSTAMP:20260425T164517
CREATED:20260331T210353Z
LAST-MODIFIED:20260331T210353Z
UID:124857-1774688400-1774710000@hillcountryalliance.org
SUMMARY:Landowner Hillside Stewardship Workshop
DESCRIPTION:The Hill Country Alliance (HCA) is hosting a Hillside Stewardship Workshop on Saturday\, March 28th at Pure Pastures Ranch in Canyon Lake\, TX\, for landowners interested in building healthier soils while slowing and sinking water on their landscape.  \nLed by Dr. Mollie Walton\, a restoration ecologist with over 30 years of experience helping landowners restore land productivity\, participants will learn how to read a landscape to determine where and how to build simple erosion control structures featured in HCA’s Hillside Stewardship Guide. \nHosted by the Eubank family at their family-owned grazing ranch\, this hands-on workshop will provide attendees with the knowledge and experience to implement these practices on their own landscape. To learn more about the event and register\, please visit: https://bit.ly/HCAHillside26 or reach out to Lauro Martinez at Lauro@HillCountyAlliance.org   
URL:https://hillcountryalliance.org/event/landowner-hillside-stewardship-workshop/
LOCATION:TX
ATTACH;FMTTYPE=image/png:https://hillcountryalliance.org/wp-content/uploads/2026/03/Flyer_Landowner_Hillside_Stewardship_032826-1.png
ORGANIZER;CN="Hill Country Alliance":MAILTO:info@hillcountryalliance.org
END:VEVENT
END:VCALENDAR